BEGIN:VCALENDAR
VERSION:2.0
PRODID:-//AudioTheme 2.3.8
BEGIN:VEVENT
UID:urn:uuid:18d6802a-4566-4f62-8a11-fb20f884e57f
URL:https://mitchmcvicker.com/concerts/gig-4606/
DTSTART;TZID=GMT:20230519T010000
SUMMARY:New Life Church
LOCATION:New Life Church\, 5194 N Hwy 6\, Helper\, UT
END:VEVENT
END:VCALENDAR
