BEGIN:VCALENDAR
VERSION:2.0
PRODID:-//AudioTheme 2.3.8
BEGIN:VEVENT
UID:urn:uuid:5e838299-6fe1-4876-80ee-a924af8a4204
URL:https://mitchmcvicker.com/concerts/gig-4602/
DTSTART;TZID=GMT:20230429T220000
SUMMARY:Evangel Chapel Bridgewater
LOCATION:Evangel Chapel Bridgewater\, 505 State Route 28\, Bridgewater\, NJ
END:VEVENT
END:VCALENDAR
