BEGIN:VCALENDAR
VERSION:2.0
PRODID:-//AudioTheme 2.3.8
BEGIN:VEVENT
UID:urn:uuid:8fb13229-b67d-497b-bd0f-283e96f80894
URL:https://mitchmcvicker.com/concerts/gig-4597/
DTSTART;TZID=GMT:20230311T000000
SUMMARY:Louie and Honey's Kitchen
LOCATION:Louie and Honey's Kitchen\, 401 West End Blvd\, Winston-Salem\, NC
END:VEVENT
END:VCALENDAR
