BEGIN:VCALENDAR
VERSION:2.0
PRODID:-//AudioTheme 2.3.8
BEGIN:VEVENT
UID:urn:uuid:04d2a4b9-0f85-4139-a194-681080d03dcb
URL:https://mitchmcvicker.com/concerts/gig-4596/
DTSTART;TZID=GMT:20230310T010000
SUMMARY:Grace and Truth Church
LOCATION:Grace and Truth Church\, 515 University Blvd.\, Birmingham\, AL
END:VEVENT
END:VCALENDAR
