BEGIN:VCALENDAR
VERSION:2.0
PRODID:-//AudioTheme 2.3.8
BEGIN:VEVENT
UID:urn:uuid:39a94170-cf0e-41da-97a2-d262d5ca1b57
URL:https://mitchmcvicker.com/concerts/gig-4594/
DTSTART;TZID=GMT:20230309T000000
SUMMARY:PRIVATE EVENT
LOCATION:PRIVATE EVENT\, Elizabethtown\, KY
END:VEVENT
END:VCALENDAR
