BEGIN:VCALENDAR
VERSION:2.0
PRODID:-//AudioTheme 2.3.8
BEGIN:VEVENT
UID:urn:uuid:1f6f8501-3fe5-4108-96cb-224ac71cff83
URL:https://mitchmcvicker.com/concerts/gig-4591/
DTSTART;TZID=GMT:20230306T010000
SUMMARY:Faith United Methodist Church
LOCATION:Faith United Methodist Church\, 6060 Teasley Lane\, Denton\, TX
END:VEVENT
END:VCALENDAR
