BEGIN:VCALENDAR
VERSION:2.0
PRODID:-//AudioTheme 2.3.8
BEGIN:VEVENT
UID:urn:uuid:f18e6c77-2693-4f4c-aed7-ed4a7b3a8276
URL:https://mitchmcvicker.com/concerts/gig-4590/
DTSTART;TZID=GMT:20230305T000000
SUMMARY:Pursuit Christian Fellowship
LOCATION:Pursuit Christian Fellowship\, 5736-B Highway 78\, Sachse\, TX\, 75048
END:VEVENT
END:VCALENDAR
