BEGIN:VCALENDAR
VERSION:2.0
PRODID:-//AudioTheme 2.3.8
BEGIN:VEVENT
UID:urn:uuid:e4bd0cbf-4c6a-4266-9020-ec64ee412a02
URL:https://mitchmcvicker.com/concerts/gig-4589/
DTSTART;TZID=GMT:20230304T010000
SUMMARY:Fellowship of the Crossroads
LOCATION:Fellowship of the Crossroads\, 597 Haynes Road\, Victoria\, TX
END:VEVENT
END:VCALENDAR
