BEGIN:VCALENDAR
VERSION:2.0
PRODID:-//AudioTheme 2.3.8
BEGIN:VEVENT
UID:urn:uuid:a91347a2-79f3-41c3-9994-87b848cfacd8
URL:https://mitchmcvicker.com/concerts/gig-4584/
DTSTART;TZID=GMT:20230301T003000
SUMMARY:Calvary Chapel Clarksville
LOCATION:Calvary Chapel Clarksville\, 221 Dunbar Cave Rd.\, Clarksville\, TN
END:VEVENT
END:VCALENDAR
