BEGIN:VCALENDAR
VERSION:2.0
PRODID:-//AudioTheme 2.3.8
BEGIN:VEVENT
UID:urn:uuid:c6bc104b-0856-449b-808d-9bb5e1ba8944
URL:https://mitchmcvicker.com/concerts/gig-4569/
DTSTART;TZID=GMT:20221107T003000
SUMMARY:Koinonia
LOCATION:Koinonia\, 103 Avenue C\, Cloquet\, MN
END:VEVENT
END:VCALENDAR
