BEGIN:VCALENDAR
VERSION:2.0
PRODID:-//AudioTheme 2.3.8
BEGIN:VEVENT
UID:urn:uuid:281e619c-c488-4d59-8aab-fd22da12bbd9
URL:https://mitchmcvicker.com/concerts/gig-4564/
DTSTART;TZID=GMT:20220926T000000
SUMMARY:Ozark Christian College - Chapel/Auditorium
LOCATION:Ozark Christian College - Chapel/Auditorium\, 1111 North Main Street\, Joplin\, MO
END:VEVENT
END:VCALENDAR
