BEGIN:VCALENDAR
VERSION:2.0
PRODID:-//AudioTheme 2.3.8
BEGIN:VEVENT
UID:urn:uuid:f861961a-0424-4094-9da4-6b8a5ffd586a
URL:https://mitchmcvicker.com/concerts/gig-4554/
DTSTART;TZID=GMT:20221113T230000
SUMMARY:Deer Run Church of Christ
LOCATION:Deer Run Church of Christ\, 2730 S. Ironwood Dr.\, South Bend\, IN\, USA\, 46614
END:VEVENT
END:VCALENDAR
