BEGIN:VCALENDAR
VERSION:2.0
PRODID:-//AudioTheme 2.3.8
BEGIN:VEVENT
UID:urn:uuid:df0576ce-2abd-47aa-922f-2d92405fd74b
URL:https://mitchmcvicker.com/concerts/gig-4552/
DTSTART;TZID=GMT:20221113T000000
SUMMARY:The Cupbearer Cafe
LOCATION:The Cupbearer Cafe\, 138 E 7th St.\, Auburn\, IN
END:VEVENT
END:VCALENDAR
