BEGIN:VCALENDAR
VERSION:2.0
PRODID:-//AudioTheme 2.3.8
BEGIN:VEVENT
UID:urn:uuid:9c99a7cf-81a9-4ef5-bdc7-7c85af3c31a2
URL:https://mitchmcvicker.com/concerts/gig-4550/
DTSTART;TZID=GMT:20221112T000000
SUMMARY:Woodruff Place Baptist Church
LOCATION:Woodruff Place Baptist Church\, Benefit for Urban Hope Indy 1739 East Michigan\, Indianapolis\, IN
END:VEVENT
END:VCALENDAR
