BEGIN:VCALENDAR
VERSION:2.0
PRODID:-//AudioTheme 2.3.8
BEGIN:VEVENT
UID:urn:uuid:eb11494a-8585-4e9e-874e-da74fffbaf99
URL:https://mitchmcvicker.com/concerts/gig-4548/
DTSTART;TZID=GMT:20221111T010000
SUMMARY:Peoria Rescue Ministries
LOCATION:Peoria Rescue Ministries\, 601 SW Adams\, Peoria\, IL
END:VEVENT
END:VCALENDAR
