BEGIN:VCALENDAR
VERSION:2.0
PRODID:-//AudioTheme 2.3.8
BEGIN:VEVENT
UID:urn:uuid:e34f9058-ea5c-4ede-8e67-3639ed172c34
URL:https://mitchmcvicker.com/concerts/gig-4547/
DTSTART;TZID=GMT:20221110T000000
SUMMARY:Sullivan Civic Center
LOCATION:Sullivan Civic Center\, 344 N Main St.\, Sullivan\, IN
END:VEVENT
END:VCALENDAR
