BEGIN:VCALENDAR
VERSION:2.0
PRODID:-//AudioTheme 2.3.8
BEGIN:VEVENT
UID:urn:uuid:c20c0616-4b23-4e4e-9947-a862a01a4c0b
URL:https://mitchmcvicker.com/concerts/gig-4545/
DTSTART;TZID=GMT:20221109T010000
SUMMARY:RockChurch
LOCATION:RockChurch\, 1081 Upper Spring Bay Rd\, East Peoria\, IL
END:VEVENT
END:VCALENDAR
