BEGIN:VCALENDAR
VERSION:2.0
PRODID:-//AudioTheme 2.3.8
BEGIN:VEVENT
UID:urn:uuid:7f62f531-06e6-40e2-8e03-5831e995a642
URL:https://mitchmcvicker.com/concerts/gig-4544/
DTSTART;TZID=GMT:20221108T010000
SUMMARY:Bethlehem Lutheran Church
LOCATION:Bethlehem Lutheran Church\, 2245 Hayden Ave\, Altoona\, WI
END:VEVENT
END:VCALENDAR
