BEGIN:VCALENDAR
VERSION:2.0
PRODID:-//AudioTheme 2.3.8
BEGIN:VEVENT
UID:urn:uuid:bb7b85c1-d0c0-4e59-ac28-58c2cd38f971
URL:https://mitchmcvicker.com/concerts/gig-4542/
DTSTART;TZID=GMT:20221030T220000
SUMMARY:Bedford Road Baptist Church
LOCATION:Bedford Road Baptist Church\, 67 Bedford Rd\, Merrimack\, NH
END:VEVENT
END:VCALENDAR
