BEGIN:VCALENDAR
VERSION:2.0
PRODID:-//AudioTheme 2.3.8
BEGIN:VEVENT
UID:urn:uuid:54ecb600-3644-43b2-af60-36ef5eff63a8
URL:https://mitchmcvicker.com/concerts/gig-4540/
DTSTART;TZID=GMT:20221029T230000
SUMMARY:Lifetree Church
LOCATION:Lifetree Church\, 500 River Road\, Jersey Shore\, PA
END:VEVENT
END:VCALENDAR
