BEGIN:VCALENDAR
VERSION:2.0
PRODID:-//AudioTheme 2.3.8
BEGIN:VEVENT
UID:urn:uuid:6044a7fb-612b-4029-b7e7-5d54076ee81f
URL:https://mitchmcvicker.com/concerts/gig-4538/
DTSTART;TZID=GMT:20221028T230000
SUMMARY:Grace Missionary Church
LOCATION:Grace Missionary Church\, 510 Portland Street\, Celina\, OH
END:VEVENT
END:VCALENDAR
