BEGIN:VCALENDAR
VERSION:2.0
PRODID:-//AudioTheme 2.3.8
BEGIN:VEVENT
UID:urn:uuid:1d7e30f1-17a3-4000-a941-1289e611f96f
URL:https://mitchmcvicker.com/concerts/gig-4537/
DTSTART;TZID=GMT:20221027T230000
SUMMARY:St. Bartholomew's Anglican Church
LOCATION:St. Bartholomew's Anglican Church\, 2368 Eggert Rd.\, Tonawanda\, NY
END:VEVENT
END:VCALENDAR
