BEGIN:VCALENDAR
VERSION:2.0
PRODID:-//AudioTheme 2.3.8
BEGIN:VEVENT
UID:urn:uuid:4cef001b-01b4-41bf-a2eb-ff7348ddd6cc
URL:https://mitchmcvicker.com/concerts/gig-4535/
DTSTART;TZID=GMT:20221026T230000
SUMMARY:New Covenant Assembly of God
LOCATION:New Covenant Assembly of God\, 1270 Pinchtown Road\, Montgomery\, PA
END:VEVENT
END:VCALENDAR
