BEGIN:VCALENDAR
VERSION:2.0
PRODID:-//AudioTheme 2.3.8
BEGIN:VEVENT
UID:urn:uuid:912334d3-4196-414d-8ce0-f34d511c36a5
URL:https://mitchmcvicker.com/concerts/gig-4533/
DTSTART;VALUE=DATE:20221025
SUMMARY:PRIVATE EVENT
LOCATION:PRIVATE EVENT\, Shipman\, VA
END:VEVENT
END:VCALENDAR
