BEGIN:VCALENDAR
VERSION:2.0
PRODID:-//AudioTheme 2.3.8
BEGIN:VEVENT
UID:urn:uuid:29658259-cf49-4706-a0a3-1e90805fb177
URL:https://mitchmcvicker.com/concerts/gig-4532/
DTSTART;TZID=GMT:20221017T000000
SUMMARY:Lifespring Community Church
LOCATION:Lifespring Community Church\, 1615 Thoele Road\, St. Peters\, MO\, USA
END:VEVENT
END:VCALENDAR
