BEGIN:VCALENDAR
VERSION:2.0
PRODID:-//AudioTheme 2.3.8
BEGIN:VEVENT
UID:urn:uuid:ce838884-a061-4b80-bbae-109bf35b871b
URL:https://mitchmcvicker.com/concerts/gig-4531/
DTSTART;TZID=GMT:20221016T160000
SUMMARY:Temple  Baptist Church
LOCATION:Temple  Baptist Church\, 1200 Truman Road\, Caruthersville\, MO
END:VEVENT
END:VCALENDAR
