BEGIN:VCALENDAR
VERSION:2.0
PRODID:-//AudioTheme 2.3.8
BEGIN:VEVENT
UID:urn:uuid:432d1300-e93a-4905-aa6a-5f05ba596331
URL:https://mitchmcvicker.com/concerts/gig-4529/
DTSTART;TZID=GMT:20221015T160000
SUMMARY:JK Books & Gifts
LOCATION:JK Books & Gifts\, 101 N. Chestnut Ave.\, Earlham\, IA
END:VEVENT
END:VCALENDAR
