BEGIN:VCALENDAR
VERSION:2.0
PRODID:-//AudioTheme 2.3.8
BEGIN:VEVENT
UID:urn:uuid:845a55d8-153b-4b33-9465-c1e481f761b1
URL:https://mitchmcvicker.com/concerts/gig-4527/
DTSTART;TZID=GMT:20221014T000000
SUMMARY:Pathway Church
LOCATION:Pathway Church\, 6523 Merle Hay Rd\, Johnston\, IA\, USA\, 50131
END:VEVENT
END:VCALENDAR
