BEGIN:VCALENDAR
VERSION:2.0
PRODID:-//AudioTheme 2.3.8
BEGIN:VEVENT
UID:urn:uuid:50a487fd-8980-48ad-b686-140d44816fee
URL:https://mitchmcvicker.com/concerts/gig-4522/
DTSTART;TZID=GMT:20220925T154500
SUMMARY:Celebration Church
LOCATION:Celebration Church\, 1301 S. Duquesne Road\, Joplin\, MO
END:VEVENT
END:VCALENDAR
