BEGIN:VCALENDAR
VERSION:2.0
PRODID:-//AudioTheme 2.3.8
BEGIN:VEVENT
UID:urn:uuid:7a112c03-ba2a-44d7-8463-d995832a686e
URL:https://mitchmcvicker.com/concerts/gig-4521/
DTSTART;TZID=GMT:20220924T230000
SUMMARY:Frontline Ministries
LOCATION:Frontline Ministries\, 124 W Erwin Ave.\, Kingfisher\, OK
END:VEVENT
END:VCALENDAR
