BEGIN:VCALENDAR
VERSION:2.0
PRODID:-//AudioTheme 2.3.8
BEGIN:VEVENT
UID:urn:uuid:971fdabf-c60d-48a6-9cf1-804f19239f91
URL:https://mitchmcvicker.com/concerts/gig-4520/
DTSTART;TZID=GMT:20220924T010000
SUMMARY:Muse Barn Concert Series
LOCATION:Muse Barn Concert Series\, 14491 County Road 3\, Longmont\, CO
END:VEVENT
END:VCALENDAR
