BEGIN:VCALENDAR
VERSION:2.0
PRODID:-//AudioTheme 2.3.8
BEGIN:VEVENT
UID:urn:uuid:2eaf0676-b81c-49a6-a0e7-3244bad890dc
URL:https://mitchmcvicker.com/concerts/gig-4519/
DTSTART;TZID=GMT:20220923T000000
SUMMARY:Milady Coffeehouse @ May Brothers Building
LOCATION:Milady Coffeehouse @ May Brothers Building\, 105 East 6th Street\, Fremont\, NE
END:VEVENT
END:VCALENDAR
