BEGIN:VCALENDAR
VERSION:2.0
PRODID:-//AudioTheme 2.3.8
BEGIN:VEVENT
UID:urn:uuid:96628a16-d735-45d3-aa8e-5acbfa8a1305
URL:https://mitchmcvicker.com/concerts/gig-4518/
DTSTART;TZID=GMT:20220922T000000
SUMMARY:Sanctuary Church
LOCATION:Sanctuary Church\, 912 18th Ave. SW\, Cedar Rapids\, IA
END:VEVENT
END:VCALENDAR
