BEGIN:VCALENDAR
VERSION:2.0
PRODID:-//AudioTheme 2.3.8
BEGIN:VEVENT
UID:urn:uuid:47add0cf-37cc-4637-a3f5-0cc1cce4fa3c
URL:https://mitchmcvicker.com/concerts/gig-4515/
DTSTART;VALUE=DATE:20220910
SUMMARY:"Ciderfest" PRIVATE EVENT
LOCATION:"Ciderfest" PRIVATE EVENT\, Millstadt\, IL
END:VEVENT
END:VCALENDAR
