BEGIN:VCALENDAR
VERSION:2.0
PRODID:-//AudioTheme 2.3.8
BEGIN:VEVENT
UID:urn:uuid:6bb4f31e-a0cd-4b4d-b45c-eab42452d845
URL:https://mitchmcvicker.com/concerts/gig-4513/
DTSTART;TZID=GMT:20220919T000000
SUMMARY:St. Bartholomew's Episcopal Church
LOCATION:St. Bartholomew's Episcopal Church\, 4800 Belmont Park Terrace\, Nashville\, TN
END:VEVENT
END:VCALENDAR
