BEGIN:VCALENDAR
VERSION:2.0
PRODID:-//AudioTheme 2.3.8
BEGIN:VEVENT
UID:urn:uuid:12399628-b9e3-46e9-ab64-1b7717ec69c8
URL:https://mitchmcvicker.com/concerts/gig-4511/
DTSTART;VALUE=DATE:20220917
SUMMARY:"Rich Mullins Weekend" PRIVATE EVENT
LOCATION:"Rich Mullins Weekend" PRIVATE EVENT\, Franklin\, TN
END:VEVENT
END:VCALENDAR
