BEGIN:VCALENDAR
VERSION:2.0
PRODID:-//AudioTheme 2.3.8
BEGIN:VEVENT
UID:urn:uuid:5cd3223b-534a-426e-aa68-e58537b34030
URL:https://mitchmcvicker.com/concerts/gig-4509/
DTSTART;TZID=GMT:20220911T220000
SUMMARY:Concert at the Street Fair
LOCATION:Concert at the Street Fair\, 122 N. 8th St.\, Salina\, KS
END:VEVENT
END:VCALENDAR
