BEGIN:VCALENDAR
VERSION:2.0
PRODID:-//AudioTheme 2.3.8
BEGIN:VEVENT
UID:urn:uuid:fdd622fd-d51b-4021-a426-c2a24eede831
URL:https://mitchmcvicker.com/concerts/gig-4507/
DTSTART;TZID=GMT:20220909T230000
SUMMARY:Concert on the Farm
LOCATION:Concert on the Farm\, 5867 Floraville Road\, Millstadt\, IL
END:VEVENT
END:VCALENDAR
