BEGIN:VCALENDAR
VERSION:2.0
PRODID:-//AudioTheme 2.3.8
BEGIN:VEVENT
UID:urn:uuid:acb1d287-4b1a-4a3e-bea4-a32913576b42
URL:https://mitchmcvicker.com/concerts/gig-4506/
DTSTART;TZID=GMT:20220909T000000
SUMMARY:Vine Street Bible Church
LOCATION:Vine Street Bible Church\, 202 North Vine St.\, Glenwood\, IA
END:VEVENT
END:VCALENDAR
