BEGIN:VCALENDAR
VERSION:2.0
PRODID:-//AudioTheme 2.3.8
BEGIN:VEVENT
UID:urn:uuid:19a557c0-a84a-44c6-9bda-7ef39f189a15
URL:https://mitchmcvicker.com/concerts/gig-4504/
DTSTART;TZID=GMT:20220908T160000
SUMMARY:PRIVATE EVENT
LOCATION:PRIVATE EVENT\, Atchison\, KS
END:VEVENT
END:VCALENDAR
