BEGIN:VCALENDAR
VERSION:2.0
PRODID:-//AudioTheme 2.3.8
BEGIN:VEVENT
UID:urn:uuid:7fa66456-72d0-4081-9ff6-75447c82883f
URL:https://mitchmcvicker.com/concerts/gig-4502/
DTSTART;TZID=GMT:20220908T000000
SUMMARY:Colby Community College - Frahm Theatre
LOCATION:Colby Community College - Frahm Theatre\, 1255 S Range Ave\, Colby\, KS
END:VEVENT
END:VCALENDAR
