BEGIN:VCALENDAR
VERSION:2.0
PRODID:-//AudioTheme 2.3.8
BEGIN:VEVENT
UID:urn:uuid:e288ff06-1135-4954-bb32-789261cd4cbb
URL:https://mitchmcvicker.com/concerts/gig-4500/
DTSTART;TZID=GMT:20220907T010000
SUMMARY:Lamar Christian Church
LOCATION:Lamar Christian Church\, 811 South Main St.\, Lamar\, CO
END:VEVENT
END:VCALENDAR
