BEGIN:VCALENDAR
VERSION:2.0
PRODID:-//AudioTheme 2.3.8
BEGIN:VEVENT
UID:urn:uuid:bf3cb11f-9999-4f35-bfa7-df8b7970eb38
URL:https://mitchmcvicker.com/concerts/gig-4496/
DTSTART;TZID=GMT:20220817T020000
SUMMARY:Sunset Church
LOCATION:Sunset Church\, 14986 NW Cornell Rd\, Portland\, OR
END:VEVENT
END:VCALENDAR
