BEGIN:VCALENDAR
VERSION:2.0
PRODID:-//AudioTheme 2.3.8
BEGIN:VEVENT
UID:urn:uuid:1e9dfb9c-b8a7-41c7-8877-4249d2db3765
URL:https://mitchmcvicker.com/concerts/gig-4486/
DTSTART;TZID=GMT:20220710T220000
SUMMARY:Watsontown Baptist Church
LOCATION:Watsontown Baptist Church\, 501 Main Street\, Watsontown\, PA
END:VEVENT
END:VCALENDAR
