BEGIN:VCALENDAR
VERSION:2.0
PRODID:-//AudioTheme 2.3.8
BEGIN:VEVENT
UID:urn:uuid:7548737c-8a09-4870-bf03-358fcd8fd4a6
URL:https://mitchmcvicker.com/concerts/gig-4484/
DTSTART;TZID=GMT:20220823T010000
SUMMARY:Main Street Church
LOCATION:Main Street Church\, 48 North Main Street\, Brigham City\, UT
END:VEVENT
END:VCALENDAR
