BEGIN:VCALENDAR
VERSION:2.0
PRODID:-//AudioTheme 2.3.8
BEGIN:VEVENT
UID:urn:uuid:4586579a-b335-4102-9c1f-898d1158702e
URL:https://mitchmcvicker.com/concerts/gig-4478/
DTSTART;TZID=GMT:20220820T013000
SUMMARY:Lewistown Creekside Marketplace & Pavilion
LOCATION:Lewistown Creekside Marketplace & Pavilion\, 300 East Main St.\, Lewistown\, MT
END:VEVENT
END:VCALENDAR
