BEGIN:VCALENDAR
VERSION:2.0
PRODID:-//AudioTheme 2.3.8
BEGIN:VEVENT
UID:urn:uuid:462f3f02-3505-40b7-b040-f7d1f9ccfab5
URL:https://mitchmcvicker.com/concerts/gig-4476/
DTSTART;TZID=GMT:20220819T020000
SUMMARY:New Hope Community Church
LOCATION:New Hope Community Church\, 1350 S Hwy 395\, Hermiston\, OR
END:VEVENT
END:VCALENDAR
