BEGIN:VCALENDAR
VERSION:2.0
PRODID:-//AudioTheme 2.3.8
BEGIN:VEVENT
UID:urn:uuid:5e2bbe78-6223-403d-aeee-7eacc33e335a
URL:https://mitchmcvicker.com/concerts/gig-4468/
DTSTART;TZID=GMT:20220815T020000
SUMMARY:Moses Lake Bible Church
LOCATION:Moses Lake Bible Church\, 7801 Chanute St. NE\, Moses Lake\, WA
END:VEVENT
END:VCALENDAR
