BEGIN:VCALENDAR
VERSION:2.0
PRODID:-//AudioTheme 2.3.8
BEGIN:VEVENT
UID:urn:uuid:82b9962f-1d36-4e7c-8f9c-836ef569469b
URL:https://mitchmcvicker.com/concerts/gig-4466/
DTSTART;TZID=GMT:20220814T170000
SUMMARY:Moses Lake UMC
LOCATION:Moses Lake UMC\, 746 S Ironwood Dr\, Moses Lake\, WA
END:VEVENT
END:VCALENDAR
