BEGIN:VCALENDAR
VERSION:2.0
PRODID:-//AudioTheme 2.3.8
BEGIN:VEVENT
UID:urn:uuid:364a4df4-7971-438f-b4aa-fd7a19878d61
URL:https://mitchmcvicker.com/concerts/gig-4458/
DTSTART;TZID=GMT:20220811T003000
SUMMARY:Corner Canyon Church
LOCATION:Corner Canyon Church\, 12883 S. 1300 E.\, Draper\, UT
END:VEVENT
END:VCALENDAR
